BEGIN:VCALENDAR
VERSION:2.0
PRODID:-//wp-events-plugin.com//7.2.3.1//EN
TZID:America/Toronto
X-WR-TIMEZONE:America/Toronto
BEGIN:VEVENT
UID:162@sdrc.ca
DTSTART;TZID=America/Toronto:20231017T183000
DTEND;TZID=America/Toronto:20231017T200000
DTSTAMP:20230824T201337Z
URL:https://www.sdrc.ca/events/autism-and-social-communication-skills-virt
 ual-9/
SUMMARY:AUTISM AND SOCIAL COMMUNICATION SKILLS - VIRTUAL
DESCRIPTION:Date: Tuesday\, October 17\, 2023                
        \nTime: 6:30 pm to 8:00 p.m.                 
      \nRegister By: October 13\, 2023\n\n\n\nPresenter:  Lorraine Ott
 o\, M.Sc.\, CCC\, Speech Language Pathologist\, (Reg. CASLPO)\n\nThis work
 shop will provide an overview of practical strategies to support communic
 ation development for individuals with ASD and will cover social communica
 tion skills including theory of mind\, hidden curriculum\, read the room\,
  comic strip conversations and using scripts to support social skills.\n\n
 Appropriate for:  Individuals\, Families and Professionals\n\n&nbsp\;\n\n
 &nbsp\;
CATEGORIES:Virtual Session
END:VEVENT
BEGIN:VTIMEZONE
TZID:America/Toronto
X-LIC-LOCATION:America/Toronto
BEGIN:DAYLIGHT
DTSTART:20230312T030000
TZOFFSETFROM:-0500
TZOFFSETTO:-0400
TZNAME:EDT
END:DAYLIGHT
END:VTIMEZONE
END:VCALENDAR