BEGIN:VCALENDAR
VERSION:2.0
PRODID:-//wp-events-plugin.com//7.2.3.1//EN
TZID:America/Toronto
X-WR-TIMEZONE:America/Toronto
BEGIN:VEVENT
UID:58@sdrc.ca
DTSTART;TZID=America/Toronto:20190529T100000
DTEND;TZID=America/Toronto:20190529T120000
DTSTAMP:20260423T170111Z
URL:
SUMMARY:Financial Supports Information Session
DESCRIPTION:Join us to learn more about the various financial supports\, in
 cluding eligibility criteria\, which are available to families who have a 
 child age 0-18 diagnosed with Autism and/or Intellectual Disabilities.\n\n
 Registration Deadline:  May 24\, 2019\n\n\n\nCost:  Free\n\nAudience: Fa
 mily or community members who want to learn more about financial supports\
 n\nIf you have questions\, please call Rehana Khanam at 519-741-1121\, Ext
 . 2201 or email r.khanam@dscwr.com\n\n&nbsp\;\n\n&nbsp\;\n\n&nbsp\;\n\n&nb
 sp\;
LOCATION:Developmental Services Resource Centre (Training Room)\, 205 – 1
 120 Victoria St. N.\, Kitchener\, Ontario\, Canada
GEO:43.466812;-80.458687
X-APPLE-STRUCTURED-LOCATION;VALUE=URI;X-ADDRESS=205 – 1120 Victoria St. N
 .\, Kitchener\, Ontario\, Canada;X-APPLE-RADIUS=100;X-TITLE=Developmental 
 Services Resource Centre (Training Room):geo:43.466812,-80.458687
END:VEVENT
BEGIN:VTIMEZONE
TZID:America/Toronto
X-LIC-LOCATION:America/Toronto
BEGIN:DAYLIGHT
DTSTART:20190310T030000
TZOFFSETFROM:-0500
TZOFFSETTO:-0400
TZNAME:EDT
END:DAYLIGHT
END:VTIMEZONE
END:VCALENDAR