BEGIN:VCALENDAR
VERSION:2.0
PRODID:-//wp-events-plugin.com//7.2.3.1//EN
TZID:America/Toronto
X-WR-TIMEZONE:America/Toronto
BEGIN:VEVENT
UID:176@sdrc.ca
DTSTART;TZID=America/Toronto:20240220T100000
DTEND;TZID=America/Toronto:20240220T113000
DTSTAMP:20240111T150123Z
URL:https://www.sdrc.ca/events/your-dtc-disability-tax-credit-questions-an
 swered-virtual-speaker-series/
SUMMARY:YOUR DTC (Disability Tax Credit) QUESTIONS ANSWERED - Virtual Speak
 er Series
DESCRIPTION:\n\nThis session is offered at two different dates and times:\n
 Register for one session only\n\nDate: Tuesday\, February 20\, 2024\nTime:
  10:00AM to 11:30AM\nRegister by: Friday\, February 16\, 2024\n\n\n\nPrese
 nter: Canada Revenue Agency (CRA)\nLearn how to apply for the DTC\nLearn h
 ow to claim the DTC once approved and\nLearn about other CRA disability-re
 lated tax programs\, including the RDSP\nAppropriate for: Families with de
 pendents and individuals of any age with a disability and/or mental health
  diagnosis. \n\n&nbsp\;\n\n&nbsp\;
CATEGORIES:Virtual Session
END:VEVENT
BEGIN:VTIMEZONE
TZID:America/Toronto
X-LIC-LOCATION:America/Toronto
BEGIN:STANDARD
DTSTART:20231105T010000
TZOFFSETFROM:-0400
TZOFFSETTO:-0500
TZNAME:EST
END:STANDARD
END:VTIMEZONE
END:VCALENDAR